BEGIN:VCALENDAR
VERSION:2.0
PRODID:-//Life Time Big Sugar Classic - ECPv6.15.20//NONSGML v1.0//EN
CALSCALE:GREGORIAN
METHOD:PUBLISH
X-WR-CALNAME:Life Time Big Sugar Classic
X-ORIGINAL-URL:https://www.bigsugarclassic.com
X-WR-CALDESC:Events for Life Time Big Sugar Classic
REFRESH-INTERVAL;VALUE=DURATION:PT1H
X-Robots-Tag:noindex
X-PUBLISHED-TTL:PT1H
BEGIN:VTIMEZONE
TZID:America/Chicago
BEGIN:DAYLIGHT
TZOFFSETFROM:-0600
TZOFFSETTO:-0500
TZNAME:CDT
DTSTART:20240310T080000
END:DAYLIGHT
BEGIN:STANDARD
TZOFFSETFROM:-0500
TZOFFSETTO:-0600
TZNAME:CST
DTSTART:20241103T070000
END:STANDARD
BEGIN:DAYLIGHT
TZOFFSETFROM:-0600
TZOFFSETTO:-0500
TZNAME:CDT
DTSTART:20250309T080000
END:DAYLIGHT
BEGIN:STANDARD
TZOFFSETFROM:-0500
TZOFFSETTO:-0600
TZNAME:CST
DTSTART:20251102T070000
END:STANDARD
BEGIN:DAYLIGHT
TZOFFSETFROM:-0600
TZOFFSETTO:-0500
TZNAME:CDT
DTSTART:20260308T080000
END:DAYLIGHT
BEGIN:STANDARD
TZOFFSETFROM:-0500
TZOFFSETTO:-0600
TZNAME:CST
DTSTART:20261101T070000
END:STANDARD
END:VTIMEZONE
BEGIN:VEVENT
DTSTART;TZID=America/Chicago:20251018T180000
DTEND;TZID=America/Chicago:20251018T233000
DTSTAMP:20260423T042845
CREATED:20250829T175538Z
LAST-MODIFIED:20250923T184353Z
UID:1660-1760810400-1760830200@www.bigsugarclassic.com
SUMMARY:The Gravel Rave
DESCRIPTION:
URL:https://www.bigsugarclassic.com/event/the-gravel-rave/
LOCATION:The Momentary\, 507 SE E St\, Bentonville\, 72712\, United States
CATEGORIES:Big Sugar Gravel Schedule,Little Sugar MTB Schedule
END:VEVENT
BEGIN:VEVENT
DTSTART;TZID=America/Chicago:20251018T160000
DTEND;TZID=America/Chicago:20251018T160000
DTSTAMP:20260423T042845
CREATED:20250829T175057Z
LAST-MODIFIED:20250905T183731Z
UID:1658-1760803200-1760803200@www.bigsugarclassic.com
SUMMARY:Big Sugar Gravel 100mi Age Group Awards
DESCRIPTION:
URL:https://www.bigsugarclassic.com/event/big-sugar-gravel-100mi-age-group-awards/
CATEGORIES:Big Sugar Gravel Schedule
END:VEVENT
BEGIN:VEVENT
DTSTART;TZID=America/Chicago:20251018T150000
DTEND;TZID=America/Chicago:20251018T150000
DTSTAMP:20260423T042845
CREATED:20250829T175015Z
LAST-MODIFIED:20250903T202216Z
UID:1657-1760799600-1760799600@www.bigsugarclassic.com
SUMMARY:Big Sugar Gravel 100mi Elite Awards
DESCRIPTION:
URL:https://www.bigsugarclassic.com/event/big-sugar-gravel-100mi-elite-awards/
CATEGORIES:Big Sugar Gravel Schedule
END:VEVENT
BEGIN:VEVENT
DTSTART;TZID=America/Chicago:20251018T143000
DTEND;TZID=America/Chicago:20251018T143000
DTSTAMP:20260423T042845
CREATED:20250829T174933Z
LAST-MODIFIED:20250903T202435Z
UID:1656-1760797800-1760797800@www.bigsugarclassic.com
SUMMARY:Big Sugar Gravel 50mi Awards
DESCRIPTION:
URL:https://www.bigsugarclassic.com/event/big-sugar-gravel-50mi-awards/
LOCATION:Bentonville City Square\, 100 N Main St\, Bentonville\, AR\, 72712\, United States
CATEGORIES:Big Sugar Gravel Schedule
END:VEVENT
BEGIN:VEVENT
DTSTART;TZID=America/Chicago:20251018T100000
DTEND;TZID=America/Chicago:20251018T183000
DTSTAMP:20260423T042845
CREATED:20250829T174840Z
LAST-MODIFIED:20250903T202546Z
UID:1655-1760781600-1760812200@www.bigsugarclassic.com
SUMMARY:Big Sugar Gravel Finish Fest
DESCRIPTION:
URL:https://www.bigsugarclassic.com/event/big-sugar-gravel-finish-fest/
LOCATION:Bentonville City Square\, 100 N Main St\, Bentonville\, AR\, 72712\, United States
CATEGORIES:Big Sugar Gravel Schedule
END:VEVENT
BEGIN:VEVENT
DTSTART;TZID=America/Chicago:20251018T090000
DTEND;TZID=America/Chicago:20251018T090000
DTSTAMP:20260423T042845
CREATED:20250829T174702Z
LAST-MODIFIED:20250903T202804Z
UID:1653-1760778000-1760778000@www.bigsugarclassic.com
SUMMARY:Big Sugar Gravel 25mi Start
DESCRIPTION:
URL:https://www.bigsugarclassic.com/event/big-sugar-gravel-25mi-start/
LOCATION:Bentonville City Square\, 100 N Main St\, Bentonville\, AR\, 72712\, United States
CATEGORIES:Big Sugar Gravel Schedule
END:VEVENT
BEGIN:VEVENT
DTSTART;TZID=America/Chicago:20251018T083000
DTEND;TZID=America/Chicago:20251018T083000
DTSTAMP:20260423T042845
CREATED:20250829T174632Z
LAST-MODIFIED:20250903T202841Z
UID:1652-1760776200-1760776200@www.bigsugarclassic.com
SUMMARY:Big Sugar Gravel 50mi Start
DESCRIPTION:
URL:https://www.bigsugarclassic.com/event/big-sugar-gravel-50mi-start/
LOCATION:Bentonville City Square\, 100 N Main St\, Bentonville\, AR\, 72712\, United States
CATEGORIES:Big Sugar Gravel Schedule
END:VEVENT
BEGIN:VEVENT
DTSTART;TZID=America/Chicago:20251018T075000
DTEND;TZID=America/Chicago:20251018T075000
DTSTAMP:20260423T042845
CREATED:20250829T174606Z
LAST-MODIFIED:20250903T202925Z
UID:1651-1760773800-1760773800@www.bigsugarclassic.com
SUMMARY:Big Sugar Gravel Age Group 100mi Start
DESCRIPTION:
URL:https://www.bigsugarclassic.com/event/big-sugar-gravel-100mi-start/
LOCATION:Bentonville City Square\, 100 N Main St\, Bentonville\, AR\, 72712\, United States
CATEGORIES:Big Sugar Gravel Schedule
END:VEVENT
BEGIN:VEVENT
DTSTART;TZID=America/Chicago:20251018T073500
DTEND;TZID=America/Chicago:20251018T073500
DTSTAMP:20260423T042845
CREATED:20250829T174522Z
LAST-MODIFIED:20250903T203344Z
UID:1650-1760772900-1760772900@www.bigsugarclassic.com
SUMMARY:Big Sugar Gravel 100mi Elite Women Start
DESCRIPTION:
URL:https://www.bigsugarclassic.com/event/big-sugar-gravel-elite-women-start/
LOCATION:Bentonville City Square\, 100 N Main St\, Bentonville\, AR\, 72712\, United States
CATEGORIES:Big Sugar Gravel Schedule
END:VEVENT
BEGIN:VEVENT
DTSTART;TZID=America/Chicago:20251018T073000
DTEND;TZID=America/Chicago:20251018T073000
DTSTAMP:20260423T042845
CREATED:20250829T174752Z
LAST-MODIFIED:20250829T190957Z
UID:1654-1760772600-1760772600@www.bigsugarclassic.com
SUMMARY:Farmers Market
DESCRIPTION:
URL:https://www.bigsugarclassic.com/event/farmers-market/
LOCATION:Bentonville City Square\, 100 N Main St\, Bentonville\, AR\, 72712\, United States
CATEGORIES:Big Sugar Gravel Schedule
END:VEVENT
BEGIN:VEVENT
DTSTART;TZID=America/Chicago:20251018T072500
DTEND;TZID=America/Chicago:20251018T072500
DTSTAMP:20260423T042845
CREATED:20250829T174443Z
LAST-MODIFIED:20250903T203407Z
UID:1649-1760772300-1760772300@www.bigsugarclassic.com
SUMMARY:Big Sugar Gravel 100mi Elite Men Start
DESCRIPTION:
URL:https://www.bigsugarclassic.com/event/big-sugar-gravel-elite-men-start/
LOCATION:Bentonville City Square\, 100 N Main St\, Bentonville\, AR\, 72712\, United States
CATEGORIES:Big Sugar Gravel Schedule
END:VEVENT
BEGIN:VEVENT
DTSTART;TZID=America/Chicago:20251017T110000
DTEND;TZID=America/Chicago:20251017T190000
DTSTAMP:20260423T042845
CREATED:20250829T173806Z
LAST-MODIFIED:20250903T203422Z
UID:1644-1760698800-1760727600@www.bigsugarclassic.com
SUMMARY:Big Sugar Gravel Packet Pickup
DESCRIPTION:
URL:https://www.bigsugarclassic.com/event/big-sugar-gravel-packet-pickup-2/
LOCATION:The Momentary\, 507 SE E St\, Bentonville\, 72712\, United States
CATEGORIES:Big Sugar Gravel Schedule
END:VEVENT
BEGIN:VEVENT
DTSTART;TZID=America/Chicago:20251017T110000
DTEND;TZID=America/Chicago:20251017T180000
DTSTAMP:20260423T042845
CREATED:20250829T164941Z
LAST-MODIFIED:20250903T203437Z
UID:1620-1760698800-1760724000@www.bigsugarclassic.com
SUMMARY:Expo
DESCRIPTION:
URL:https://www.bigsugarclassic.com/event/expo-2/
CATEGORIES:Big Sugar Gravel Schedule,Little Sugar MTB Schedule
END:VEVENT
BEGIN:VEVENT
DTSTART;TZID=America/Chicago:20251017T090000
DTEND;TZID=America/Chicago:20251017T110000
DTSTAMP:20260423T042845
CREATED:20250829T180655Z
LAST-MODIFIED:20250903T201225Z
UID:1667-1760691600-1760698800@www.bigsugarclassic.com
SUMMARY:SHIFT'25 Breakfast & Group Rides
DESCRIPTION:
URL:https://www.bigsugarclassic.com/event/shift25-breakfast-group-rides/
LOCATION:The Meteor\, 401 SE D St\, Bentonville\, AR\, 72712\, United States
CATEGORIES:SHIFT'25 Schedule
END:VEVENT
BEGIN:VEVENT
DTSTART;TZID=America/Chicago:20251016T150000
DTEND;TZID=America/Chicago:20251016T190000
DTSTAMP:20260423T042845
CREATED:20250829T173455Z
LAST-MODIFIED:20250923T184311Z
UID:1642-1760626800-1760641200@www.bigsugarclassic.com
SUMMARY:Big Sugar Gravel Age Group Packet Pickup
DESCRIPTION:
URL:https://www.bigsugarclassic.com/event/big-sugar-gravel-packet-pickup/
LOCATION:The Momentary\, 507 SE E St\, Bentonville\, 72712\, United States
CATEGORIES:Big Sugar Gravel Schedule
END:VEVENT
BEGIN:VEVENT
DTSTART;TZID=America/Chicago:20251016T130000
DTEND;TZID=America/Chicago:20251016T190000
DTSTAMP:20260423T042845
CREATED:20250821T201541Z
LAST-MODIFIED:20250903T203518Z
UID:1611-1760619600-1760641200@www.bigsugarclassic.com
SUMMARY:Expo
DESCRIPTION:
URL:https://www.bigsugarclassic.com/event/expo/
LOCATION:The Momentary\, 507 SE E St\, Bentonville\, 72712\, United States
CATEGORIES:Big Sugar Gravel Schedule,Little Sugar MTB Schedule
END:VEVENT
BEGIN:VEVENT
DTSTART;TZID=America/Chicago:20251016T130000
DTEND;TZID=America/Chicago:20251016T140000
DTSTAMP:20260423T042845
CREATED:20250829T181538Z
LAST-MODIFIED:20250923T184123Z
UID:1668-1760619600-1760623200@www.bigsugarclassic.com
SUMMARY:Big Sugar Gravel Elite Packet Pickup
DESCRIPTION:
URL:https://www.bigsugarclassic.com/event/big-sugar-gravel-elite-packet-pickup/
LOCATION:The Momentary\, 507 SE E St\, Bentonville\, 72712\, United States
CATEGORIES:Big Sugar Gravel Schedule
END:VEVENT
BEGIN:VEVENT
DTSTART;TZID=America/Chicago:20251015T180000
DTEND;TZID=America/Chicago:20251015T200000
DTSTAMP:20260423T042845
CREATED:20250829T180443Z
LAST-MODIFIED:20250903T203604Z
UID:1665-1760551200-1760558400@www.bigsugarclassic.com
SUMMARY:SHIFT'25 Happy Hour & Dinner
DESCRIPTION:
URL:https://www.bigsugarclassic.com/event/people-for-bikes-shift25-happy-hour-dinner/
LOCATION:The YT Mill\, 306 S Main St\, Bentonville\, AR\, 72712\, United States
CATEGORIES:SHIFT'25 Schedule
END:VEVENT
BEGIN:VEVENT
DTSTART;TZID=America/Chicago:20251015T090000
DTEND;TZID=America/Chicago:20251015T110000
DTSTAMP:20260423T042845
CREATED:20250829T180227Z
LAST-MODIFIED:20250903T203635Z
UID:1663-1760518800-1760526000@www.bigsugarclassic.com
SUMMARY:PeopleForBikes x Breakfast Club ATX Group Ride
DESCRIPTION:
URL:https://www.bigsugarclassic.com/event/people-for-bikes-x-breakfast-club-atx-group-ride/
LOCATION:The Meteor\, 401 SE D St\, Bentonville\, AR\, 72712\, United States
CATEGORIES:SHIFT'25 Schedule
END:VEVENT
BEGIN:VEVENT
DTSTART;TZID=America/Chicago:20251013T120000
DTEND;TZID=America/Chicago:20251013T140000
DTSTAMP:20260423T042845
CREATED:20250829T175851Z
LAST-MODIFIED:20250916T214809Z
UID:1662-1760356800-1760364000@www.bigsugarclassic.com
SUMMARY:Lunch + Learn with PeopleForBikes
DESCRIPTION:Join PeopleForBikesNWA for a first-hand experience at Ari Bikes’ new downtown Bentonville showcase location to learn more about what guests can expect to find at the new shop. After the lunch + learn\, local guide Rich Drew leads an onsite skills clinic and group ride.
URL:https://www.bigsugarclassic.com/event/ari-bikes-lunch-learn-and-skills-clinic-ride/
CATEGORIES:SHIFT'25 Schedule
END:VEVENT
BEGIN:VEVENT
DTSTART;TZID=America/Chicago:20251012T183000
DTEND;TZID=America/Chicago:20251012T183000
DTSTAMP:20260423T042845
CREATED:20250829T172243Z
LAST-MODIFIED:20250903T204058Z
UID:1641-1760293800-1760293800@www.bigsugarclassic.com
SUMMARY:Little Sugar MTB 100k Age Group Awards
DESCRIPTION:
URL:https://www.bigsugarclassic.com/event/little-sugar-mtb-100k-age-group-awards/
CATEGORIES:Little Sugar MTB Schedule
END:VEVENT
BEGIN:VEVENT
DTSTART;TZID=America/Chicago:20251012T153000
DTEND;TZID=America/Chicago:20251012T153000
DTSTAMP:20260423T042845
CREATED:20250829T172203Z
LAST-MODIFIED:20250829T185952Z
UID:1640-1760283000-1760283000@www.bigsugarclassic.com
SUMMARY:Little Sugar MTB 100k Elite Awards
DESCRIPTION:
URL:https://www.bigsugarclassic.com/event/little-sugar-mtb-elite-awards/
CATEGORIES:Little Sugar MTB Schedule
END:VEVENT
BEGIN:VEVENT
DTSTART;TZID=America/Chicago:20251012T150000
DTEND;TZID=America/Chicago:20251012T150000
DTSTAMP:20260423T042845
CREATED:20250829T172111Z
LAST-MODIFIED:20250829T185935Z
UID:1639-1760281200-1760281200@www.bigsugarclassic.com
SUMMARY:Little Sugar MTB 50k Awards
DESCRIPTION:
URL:https://www.bigsugarclassic.com/event/little-sugar-mtb-50k-awards/
CATEGORIES:Little Sugar MTB Schedule
END:VEVENT
BEGIN:VEVENT
DTSTART;TZID=America/Chicago:20251012T143000
DTEND;TZID=America/Chicago:20251012T143000
DTSTAMP:20260423T042845
CREATED:20250829T172037Z
LAST-MODIFIED:20250829T185825Z
UID:1638-1760279400-1760279400@www.bigsugarclassic.com
SUMMARY:Little Sugar MTB 20k Awards
DESCRIPTION:
URL:https://www.bigsugarclassic.com/event/little-sugar-mtb-20k-awards/
CATEGORIES:Little Sugar MTB Schedule
END:VEVENT
BEGIN:VEVENT
DTSTART;TZID=America/Chicago:20251012T110000
DTEND;TZID=America/Chicago:20251012T200000
DTSTAMP:20260423T042845
CREATED:20250829T171948Z
LAST-MODIFIED:20250829T171948Z
UID:1636-1760266800-1760299200@www.bigsugarclassic.com
SUMMARY:Little Sugar MTB After Party
DESCRIPTION:
URL:https://www.bigsugarclassic.com/event/little-sugar-mtb-after-party/
LOCATION:The HUB Bike Lounge\, 410 SW A St Suite 2\, Bentonville\, AR\, 72712\, United States
CATEGORIES:Little Sugar MTB Schedule
END:VEVENT
BEGIN:VEVENT
DTSTART;TZID=America/Chicago:20251012T103000
DTEND;TZID=America/Chicago:20251012T103000
DTSTAMP:20260423T042845
CREATED:20250829T171622Z
LAST-MODIFIED:20250829T171622Z
UID:1633-1760265000-1760265000@www.bigsugarclassic.com
SUMMARY:Little Sugar MTB 20k Start
DESCRIPTION:
URL:https://www.bigsugarclassic.com/event/little-sugar-mtb-20k-start/
LOCATION:The Homestead\, 18 09845-000\, Bentonville\, AR\, 72712\, United States
CATEGORIES:Little Sugar MTB Schedule
END:VEVENT
BEGIN:VEVENT
DTSTART;TZID=America/Chicago:20251012T090000
DTEND;TZID=America/Chicago:20251012T183000
DTSTAMP:20260423T042845
CREATED:20250829T171752Z
LAST-MODIFIED:20250829T185407Z
UID:1634-1760259600-1760293800@www.bigsugarclassic.com
SUMMARY:Little Sugar MTB Finish Fest
DESCRIPTION:
URL:https://www.bigsugarclassic.com/event/little-sugar-mtb-finish-line-open/
LOCATION:Bentonville City Square\, 100 N Main St\, Bentonville\, AR\, 72712\, United States
CATEGORIES:Little Sugar MTB Schedule
END:VEVENT
BEGIN:VEVENT
DTSTART;TZID=America/Chicago:20251012T082000
DTEND;TZID=America/Chicago:20251012T082000
DTSTAMP:20260423T042845
CREATED:20250829T171548Z
LAST-MODIFIED:20250829T171548Z
UID:1632-1760257200-1760257200@www.bigsugarclassic.com
SUMMARY:Little Sugar MTB 100k Age Group Start
DESCRIPTION:
URL:https://www.bigsugarclassic.com/event/little-sugar-mtb-100k-age-group-start/
LOCATION:The Homestead\, 18 09845-000\, Bentonville\, AR\, 72712\, United States
CATEGORIES:Little Sugar MTB Schedule
END:VEVENT
BEGIN:VEVENT
DTSTART;TZID=America/Chicago:20251012T081000
DTEND;TZID=America/Chicago:20251012T081000
DTSTAMP:20260423T042845
CREATED:20250829T171505Z
LAST-MODIFIED:20250829T174112Z
UID:1631-1760256600-1760256600@www.bigsugarclassic.com
SUMMARY:Little Sugar MTB 100k Elite Women Start
DESCRIPTION:
URL:https://www.bigsugarclassic.com/event/little-sugar-mtb-100k-elite-women-start/
LOCATION:The Homestead\, 18 09845-000\, Bentonville\, AR\, 72712\, United States
CATEGORIES:Little Sugar MTB Schedule
END:VEVENT
BEGIN:VEVENT
DTSTART;TZID=America/Chicago:20251012T080000
DTEND;TZID=America/Chicago:20251012T080000
DTSTAMP:20260423T042845
CREATED:20250829T171403Z
LAST-MODIFIED:20250829T174122Z
UID:1630-1760256000-1760256000@www.bigsugarclassic.com
SUMMARY:Little Sugar MTB 100k Elite Men Start
DESCRIPTION:
URL:https://www.bigsugarclassic.com/event/little-sugar-mtb-100k-elite-men-start/
LOCATION:The Homestead\, 18 09845-000\, Bentonville\, AR\, 72712\, United States
CATEGORIES:Little Sugar MTB Schedule
END:VEVENT
END:VCALENDAR